BEGIN:VCALENDAR
VERSION:2.0
PRODID:-//https://231music.petemusic.com///NONSGML kigkonsult.se iCalcreator 2.10.15//
METHOD:PUBLISH
BEGIN:VEVENT
UID:20260420T114046UTC-5950lD5tuD@https://231music.petemusic.com/
DTSTAMP:20260420T114046Z
DESCRIPTION: https://231music.petemusic.com/calendar/list-of-live-events/ev
 ent/514-walloon-watershed
DTSTART:20260715T180000Z
DTEND:20260715T210000Z
LOCATION:Walloon Watershed (4128 M-75\, Walloon Lake\, MI)
SUMMARY:Walloon Watershed
URL:https://231music.petemusic.com/calendar/list-of-live-events/event/514-w
 alloon-watershed
END:VEVENT
END:VCALENDAR
